BEGIN:VCALENDAR
VERSION:2.0
PRODID:-//EASI - ECPv6.15.13//NONSGML v1.0//EN
CALSCALE:GREGORIAN
METHOD:PUBLISH
X-WR-CALNAME:EASI
X-ORIGINAL-URL:https://easi.its.utoronto.ca
X-WR-CALDESC:Events for EASI
REFRESH-INTERVAL;VALUE=DURATION:PT1H
X-Robots-Tag:noindex
X-PUBLISHED-TTL:PT1H
BEGIN:VTIMEZONE
TZID:America/Toronto
BEGIN:DAYLIGHT
TZOFFSETFROM:-0500
TZOFFSETTO:-0400
TZNAME:EDT
DTSTART:20250309T070000
END:DAYLIGHT
BEGIN:STANDARD
TZOFFSETFROM:-0400
TZOFFSETTO:-0500
TZNAME:EST
DTSTART:20251102T060000
END:STANDARD
BEGIN:DAYLIGHT
TZOFFSETFROM:-0500
TZOFFSETTO:-0400
TZNAME:EDT
DTSTART:20260308T070000
END:DAYLIGHT
BEGIN:STANDARD
TZOFFSETFROM:-0400
TZOFFSETTO:-0500
TZNAME:EST
DTSTART:20261101T060000
END:STANDARD
BEGIN:DAYLIGHT
TZOFFSETFROM:-0500
TZOFFSETTO:-0400
TZNAME:EDT
DTSTART:20270314T070000
END:DAYLIGHT
BEGIN:STANDARD
TZOFFSETFROM:-0400
TZOFFSETTO:-0500
TZNAME:EST
DTSTART:20271107T060000
END:STANDARD
END:VTIMEZONE
BEGIN:VEVENT
DTSTART;TZID=America/Toronto:20260428T190000
DTEND;TZID=America/Toronto:20260501T070000
DTSTAMP:20260420T004003
CREATED:20260309T190136Z
LAST-MODIFIED:20260311T142106Z
UID:18186-1777402800-1777618800@easi.its.utoronto.ca
SUMMARY:AMS FI Fiscal Year-End Closure
DESCRIPTION:This year\, AMS will close for year-end processing on Tuesday\, April 28 at 7 p.m. and will re-open on Friday\, May 1 at 7 a.m. \nPlease note: \n\nuSOURCE will close on Tuesday\, April 28 at 5 p.m. and will re-open on Friday\, May 1 at 9 a.m.\nConcur (Travel & Expense Reimbursement) will remain available 24/7; however\, posting claims or progressing the workflow after an approval is dependent on AMS and will automatically resume when AMS is available on May 1 at 7 a.m.\n\nFor information on the year-end deadlines\, processing and reporting refer to the Financial Services website. \nFor more details about the closure\, go to the System Availability page.
URL:https://easi.its.utoronto.ca/event/ams-fi-fiscal-year-end-closure-2/
CATEGORIES:Important Dates
END:VEVENT
END:VCALENDAR